BEGIN:VCALENDAR
VERSION:2.0
PRODID:-//Insight Meditation South Bay - ECPv6.5.1//NONSGML v1.0//EN
CALSCALE:GREGORIAN
METHOD:PUBLISH
X-WR-CALNAME:Insight Meditation South Bay
X-ORIGINAL-URL:https://staging.imsb.org
X-WR-CALDESC:Events for Insight Meditation South Bay
REFRESH-INTERVAL;VALUE=DURATION:PT1H
X-Robots-Tag:noindex
X-PUBLISHED-TTL:PT1H
BEGIN:VTIMEZONE
TZID:America/Los_Angeles
BEGIN:DAYLIGHT
TZOFFSETFROM:-0800
TZOFFSETTO:-0700
TZNAME:PDT
DTSTART:20150308T100000
END:DAYLIGHT
BEGIN:STANDARD
TZOFFSETFROM:-0700
TZOFFSETTO:-0800
TZNAME:PST
DTSTART:20151101T090000
END:STANDARD
BEGIN:DAYLIGHT
TZOFFSETFROM:-0800
TZOFFSETTO:-0700
TZNAME:PDT
DTSTART:20160313T100000
END:DAYLIGHT
BEGIN:STANDARD
TZOFFSETFROM:-0700
TZOFFSETTO:-0800
TZNAME:PST
DTSTART:20161106T090000
END:STANDARD
BEGIN:DAYLIGHT
TZOFFSETFROM:-0800
TZOFFSETTO:-0700
TZNAME:PDT
DTSTART:20170312T100000
END:DAYLIGHT
BEGIN:STANDARD
TZOFFSETFROM:-0700
TZOFFSETTO:-0800
TZNAME:PST
DTSTART:20171105T090000
END:STANDARD
BEGIN:DAYLIGHT
TZOFFSETFROM:-0800
TZOFFSETTO:-0700
TZNAME:PDT
DTSTART:20180311T100000
END:DAYLIGHT
BEGIN:STANDARD
TZOFFSETFROM:-0700
TZOFFSETTO:-0800
TZNAME:PST
DTSTART:20181104T090000
END:STANDARD
BEGIN:DAYLIGHT
TZOFFSETFROM:-0800
TZOFFSETTO:-0700
TZNAME:PDT
DTSTART:20190310T100000
END:DAYLIGHT
BEGIN:STANDARD
TZOFFSETFROM:-0700
TZOFFSETTO:-0800
TZNAME:PST
DTSTART:20191103T090000
END:STANDARD
END:VTIMEZONE
BEGIN:VEVENT
DTSTART;VALUE=DATE:20191103
DTEND;VALUE=DATE:20191104
DTSTAMP:20260424T122105
CREATED:20180602T110111Z
LAST-MODIFIED:20191015T002156Z
UID:10009049-1572739200-1572825599@staging.imsb.org
SUMMARY:Retreat in Missouri - CANCELLED
DESCRIPTION:THIS RETREAT HAS BEEN CANCELLED DUE TO LOW REGISTRATIONS \nNovember 3-10\, 2019 \nA week-long retreat near St. Louis\, Missouri \nwith Shaila Catherine and Philip Jones \nMindfulness Meditation and the Seven Factors of Awakening\nThis week-long retreat focuses on developingmindfulness meditation in conjunction with seven qualities that prepare the mind for awakening: mindfulness\, investigation\, energy\, joy\, tranquility\, concentration\, and equanimity. These Seven Awakening Factors mature with a bright\, balanced\, and peaceful mind that is imbued with deep concentration and ripe for insight. By cultivating these seven qualities meditators refine and balance their meditation practice\, and progressively incline the mind toward awakening. \nEach morning instruction will focus on developing practical skills in mindfulness meditation\, and each evening teaching will highlight ways to develop the seven factors in the context of mindfulness practices. This retreat is appropriate for both new and experienced practitioners. \nFor more information and registration details visit the Mid America Dharma website at: \nhttps://www.midamericadharma.org
URL:https://staging.imsb.org/event/week-long-meditation-retreat-in-missouri-with-shaila-catherine-and-phil-jones/
LOCATION:Mid America Dharma – at Mercy Center in St.Louis\, Missouri\, 2039 N. Geyer Road\, St. Louis\, MO\, 63131\, United States
CATEGORIES:Requires Registration,Retreats with Shaila
ORGANIZER;CN="Mid America Dharma":MAILTO:Click the link Mid America Dharma under organizer.
END:VEVENT
BEGIN:VEVENT
DTSTART;VALUE=DATE:20180809
DTEND;VALUE=DATE:20180817
DTSTAMP:20260424T122105
CREATED:20170708T033425Z
LAST-MODIFIED:20170708T052142Z
UID:10008966-1533772800-1534463999@staging.imsb.org
SUMMARY:Retreat in Kansas with Shaila Catherine & Philip Jones
DESCRIPTION:A weeklong retreat with Shaila Catherine and Philip Jones. \nAwakening with Insight\nThis silent meditation retreat will emphasize a balance of mindfulness\, concentration\, and investigation. Instructions will encourage mindfulness of breath\, body\, and mind to enhance the potential for liberating insight. Meditation instructions\, consultations with the teachers\, and daily dharma teachings make this retreat suitable for both new and experienced practitioners. By cultivating a calm\, balanced awareness\, we can dissolve any suffering that may entangle our hearts and discover our freedom in the midst of things. \nFor more information visit the Mid America Dharma website at: \nhttps://www.midamericadharma.org
URL:https://staging.imsb.org/event/retreat-in-kansas-with-shaila-catherine/
LOCATION:Mid America Dharma – Marillac Retreat Center in Kansas\, 4200 South 4th Street\, Leavenworth\, KS\, 66048
CATEGORIES:Retreats with Shaila
ORGANIZER;CN="Mid America Dharma":MAILTO:Click the link Mid America Dharma under organizer.
GEO:39.114053;-94.6274636
X-APPLE-STRUCTURED-LOCATION;VALUE=URI;X-ADDRESS=Mid America Dharma – Marillac Retreat Center in Kansas 4200 South 4th Street Leavenworth KS 66048;X-APPLE-RADIUS=500;X-TITLE=4200 South 4th Street:geo:-94.6274636,39.114053
END:VEVENT
BEGIN:VEVENT
DTSTART;VALUE=DATE:20170515
DTEND;VALUE=DATE:20170516
DTSTAMP:20260424T122105
CREATED:20160625T231745Z
LAST-MODIFIED:20170216T173506Z
UID:10008903-1494806400-1494892799@staging.imsb.org
SUMMARY:Retreat in Kansas with Shaila Catherine
DESCRIPTION:A weeklong retreat with Shaila Catherine and Philip Jones. \nAwakening with Insight\nThis silent meditation retreat will emphasize a balance of mindfulness\, concentration\, and investigation. Instructions will encourage mindfulness of breath\, body\, and mind to enhance the potential for liberating insight. Meditation instructions\, consultations with the teachers\, and daily dharma teachings make this retreat suitable for both new and experienced practitioners. By cultivating a calm\, balanced awareness\, we can dissolve any suffering that may entangle our hearts and discover our freedom in the midst of things. \nFor more information visit the Mid America Dharma website at: \nhttps://midamericadharma.org/index.php/catherinejones2017/ \n 
URL:https://staging.imsb.org/event/retreat-in-kansas/
LOCATION:Mid America Dharma – Marillac Retreat Center in Kansas\, 4200 South 4th Street\, Leavenworth\, KS\, 66048
CATEGORIES:Retreats with Shaila
ORGANIZER;CN="Mid America Dharma":MAILTO:Click the link Mid America Dharma under organizer.
GEO:39.114053;-94.6274636
X-APPLE-STRUCTURED-LOCATION;VALUE=URI;X-ADDRESS=Mid America Dharma – Marillac Retreat Center in Kansas 4200 South 4th Street Leavenworth KS 66048;X-APPLE-RADIUS=500;X-TITLE=4200 South 4th Street:geo:-94.6274636,39.114053
END:VEVENT
BEGIN:VEVENT
DTSTART;VALUE=DATE:20160806
DTEND;VALUE=DATE:20160814
DTSTAMP:20260424T122105
CREATED:20150622T015522Z
LAST-MODIFIED:20170216T173513Z
UID:10008865-1470441600-1471132799@staging.imsb.org
SUMMARY:Retreat – in Kansas
DESCRIPTION:A weeklong retreat with Shaila Catherine and Philip Jones. \nAwakening with Insight\nThis silent meditation retreat will emphasize a balance of mindfulness\, concentration\, and investigation. Instructions will encourage mindfulness of breath\, body\, and mind to enhance the potential for liberating insight. Meditation instructions\, consultations with the teachers\, and daily dharma teachings make this retreat suitable for both new and experienced practitioners. By cultivating a calm\, balanced awareness\, we can dissolve any suffering that may entangle our hearts and discover our freedom in the midst of things. \nRegistration will open May 6\, 2016\nVisit https://www.midamericadharma.org/retreats.html for retreat details and registration process.
URL:https://staging.imsb.org/event/retreat-kansas-city-ks/
LOCATION:Mid America Dharma – Marillac Retreat Center in Kansas\, 4200 South 4th Street\, Leavenworth\, KS\, 66048
CATEGORIES:Not an IMSB event,Retreats with Shaila
ORGANIZER;CN="Mid America Dharma":MAILTO:Click the link Mid America Dharma under organizer.
GEO:39.114053;-94.6274636
X-APPLE-STRUCTURED-LOCATION;VALUE=URI;X-ADDRESS=Mid America Dharma – Marillac Retreat Center in Kansas 4200 South 4th Street Leavenworth KS 66048;X-APPLE-RADIUS=500;X-TITLE=4200 South 4th Street:geo:-94.6274636,39.114053
END:VEVENT
BEGIN:VEVENT
DTSTART;VALUE=DATE:20150905
DTEND;VALUE=DATE:20150913
DTSTAMP:20260424T122105
CREATED:20150127T001706Z
LAST-MODIFIED:20170216T173525Z
UID:10004985-1441411200-1442102399@staging.imsb.org
SUMMARY:Retreat – Kansas City
DESCRIPTION:A weeklong retreat with Shaila Catherine and Philip Jones.\nIncludes Labor Day weekend. \nAwakening with Insight\nThis silent meditation retreat will emphasize a balance of mindfulness\, concentration\, and investigation. Instructions will encourage mindfulness of breath\, body\, and mind to enhance the potential for liberating insight. Meditation instructions\, consultations with the teachers\, and daily dharma teachings make this retreat suitable for both new and experienced practitioners. By cultivating a calm\, balanced awareness\, we can dissolve any suffering that may entangle our hearts and discover our freedom in the midst of things. \nRegistration will open June 6.\nVisit https://www.midamericadharma.org/retreats.html for retreat details and registration process.
URL:https://staging.imsb.org/event/retreat-in-kansas-city/
LOCATION:Mid America Dharma – Marillac Retreat Center in Kansas\, 4200 South 4th Street\, Leavenworth\, KS\, 66048
CATEGORIES:Not an IMSB event,Retreats with Shaila
ORGANIZER;CN="Mid America Dharma":MAILTO:Click the link Mid America Dharma under organizer.
GEO:39.114053;-94.6274636
X-APPLE-STRUCTURED-LOCATION;VALUE=URI;X-ADDRESS=Mid America Dharma – Marillac Retreat Center in Kansas 4200 South 4th Street Leavenworth KS 66048;X-APPLE-RADIUS=500;X-TITLE=4200 South 4th Street:geo:-94.6274636,39.114053
END:VEVENT
END:VCALENDAR