BEGIN:VCALENDAR
VERSION:2.0
PRODID:-//Insight Meditation South Bay - ECPv6.5.1//NONSGML v1.0//EN
CALSCALE:GREGORIAN
METHOD:PUBLISH
X-ORIGINAL-URL:https://staging.imsb.org
X-WR-CALDESC:Events for Insight Meditation South Bay
REFRESH-INTERVAL;VALUE=DURATION:PT1H
X-Robots-Tag:noindex
X-PUBLISHED-TTL:PT1H
BEGIN:VTIMEZONE
TZID:America/Los_Angeles
BEGIN:DAYLIGHT
TZOFFSETFROM:-0800
TZOFFSETTO:-0700
TZNAME:PDT
DTSTART:20230312T100000
END:DAYLIGHT
BEGIN:STANDARD
TZOFFSETFROM:-0700
TZOFFSETTO:-0800
TZNAME:PST
DTSTART:20231105T090000
END:STANDARD
END:VTIMEZONE
BEGIN:VEVENT
DTSTART;TZID=America/Los_Angeles:20231009T190000
DTEND;TZID=America/Los_Angeles:20231009T203000
DTSTAMP:20260421T062417
CREATED:20230613T002345Z
LAST-MODIFIED:20231006T215123Z
UID:10008812-1696878000-1696883400@staging.imsb.org
SUMMARY:Beyond Distraction
DESCRIPTION:This event was cancelled due to low registrations (October 6\, 2023).\nBeyond Distraction\nCultivating the Skills to Focus Attention\nAn 8-week series with Shaila Catherine and Kim Allen\nRegistration is required. Scroll below for tickets.\nThis course will follow Shaila Catherine’s latest book\, Beyond Distraction\, as we explore a traditional sequence of strategies for dealing with obstructive mental patterns. We can all develop skills that overcome restlessness\, develop calmness\, and free the mind from obsessive planning\, worrying\, fantasizing\, judging\, and dwelling in personal narratives. Participants will be encouraged to develop a mindfulness-based meditation practice\, while exploring specific strategies for overcoming distractions\, understanding the workings of mind\, and fostering calm attention. \nReadings: Please purchase the book Beyond Distraction: Five Practical Ways to Focus the Mind by Shaila Catherine (published in 2022).\nWe will also read the following two discourses: \n\nhttps://suttacentral.net/mn19/en/bodhi\nhttps://suttacentral.net/mn20/en/bodhi\n\nOctober 9 – Lost in Thought\, with Shaila Catherine\nOctober 23 – Many Kinds of Thoughts\, with Kim Allen\nNovember 13 – Antidotes and Alternatives\, with Shaila Catherine\nNovember 27 – Weighing the Costs\, with Kim Allen\nDecember 11 – Withdrawing the Fuel\, with Shaila Catherine\nJanuary 8 – Unraveling the Causes\, with Shaila Catherine\nJanuary 22 – Applying Resolve\, with Shaila Catherine\nFebruary 12 – Moving Toward Liberation\, with Shaila Catherine \n\n\nWHO SHOULD JOIN: This course is open to all practitioners. \nCOURSE LEVELS: It is designed as a level 1-2 course. Click this link for a key to course level designations. \n\n\n\n\n\nVisit our Teacher Page for teacher biographies and photographs. \nREGISTRATION: Registration is required for this course. Registration fees are non-refundable. To register\, select an option under the Tickets heading at the bottom of this page. (If you are viewing this page more than two months in advance of the course\, the Tickets heading might not yet appear\, so please check again later.) To register for a course\, you purchase one ticket\, which registers you for the entire class series. You only need to register once; you do not need to register separately for each class session. \nCourse Fee: The sliding scale fee range is from $200 to $600 and will be shared between IMSB and the teacher(s). The lower end of the sliding scale is intended for those with limited financial means. The low rate of $200 is estimated to cover only the basic expense of rent for the class period. This base rate does not factor in compensation for teachers or ongoing administrative expenses. If you pay at the mid to high range of the sliding scale\, your generosity supports those with limited income in attending our programs and also supports IMSB and the teachers. We encourage you to choose the highest level that is appropriate for your economic situation. \nDana/Donations: Donation baskets will be available at each event for drop-in guests and those who wish to offer additional donations to support the teachers and IMSB. Dana gifts are tax-deductible. \nScholarship Assistance: A scholarship rate of $100 is offered for those with very limited financial means. If you need financial assistance\, you may use the discount coupon code “halftherate” to reduce the lowest ticket by 50%. Or contact intention for additional assistance. \nPartial or Drop-in Attendance: If you do not want to register for the whole course\, but would like to attend one or two sessions on a drop-in basis\, you may join us and offer payment at the door. The recommended sliding scale is $25–$100 per session\, with a discount scholarship rate of $15 per session. \nIf you can attend at least 4 out of the 8 scheduled sessions\, please use the usual tickets or scholarship code to register online. \nTax Deductions: The basic registration fee is not tax deductible. Donations above the base rate will be considered voluntary contributions and are tax deductible. Each January\, the IMSB treasurer sends donors letters that acknowledge donations of $250 and above in the previous year. This letter will serve as documentation for tax deduction purposes. \nCancellation Policy: All fees and payments are non-refundable. If you must cancel your participation in a course\, and the registrar is notified prior to the start of the first class meeting\, your registration fee will be converted into a voucher creditable towards the fee for a future event. Vouchers must be used within two years of the initial course start date\, and may be transferred to only one future course. Cancellations that occur after the start of the first class are not eligible for the voucher credit.
URL:https://staging.imsb.org/event/beyond-distraction/
LOCATION:St. Timothy’s Episcopal Church\, 2094 Grant Road \, Mountain View\, 94040\, United States
CATEGORIES:Beginners,In-Person
ORGANIZER;CN="IMSB contact":MAILTO:Click on link under Organizer.
GEO:37.3726296;-122.0783279
X-APPLE-STRUCTURED-LOCATION;VALUE=URI;X-ADDRESS=St. Timothy’s Episcopal Church 2094 Grant Road  Mountain View 94040 United States;X-APPLE-RADIUS=500;X-TITLE=2094 Grant Road:geo:-122.0783279,37.3726296
END:VEVENT
BEGIN:VEVENT
DTSTART;TZID=America/Los_Angeles:20231009T193000
DTEND;TZID=America/Los_Angeles:20231009T210000
DTSTAMP:20260421T062417
CREATED:20140819T013735Z
LAST-MODIFIED:20200727T203500Z
UID:10008151-1696879800-1696885200@staging.imsb.org
SUMMARY:Effortless Mindfulness – author Lisa Dale Miller
DESCRIPTION:Effortless Mindfulness: Genuine Mental Health Through Awakened Presence\nby Lisa Dale Miller\nPublished by Routledge April 2014 \nThe event will include meditation and the author’s talk. \n \n7:30-9:00 Evening Program includes meditation and a talk. \n9:00-9:30 Reception with tea and treats. \nEffortless Mindfulness promotes genuine mental health through the direct experience of awakened presence—an effortlessly embodied\, fearless understanding of and interaction with the way things truly are. The book offers a uniquely modern Buddhist psychological understanding of mental health disorders through a scholarly\, yet clinically useful presentation of Theravada\, Mahayana and Vajrayana Buddhist teachings and practices. Written specifically for Western psychotherapeutic professionals\, the book brings together traditional Buddhist theory and contemporary psycho-neuro-bio-social research to describe the conditioned and unconditioned mind. This in-depth exploration of Buddhist psychology includes complete instructions for psychotherapists in authentic yet clinically appropriate Buddhist mindfulness/heartfulness practices and Buddhist psychological inquiry skills. The book also features interviews with an esteemed collection of Buddhist teachers\, scholars\, meditation researchers and Buddhist-inspired clinicians. \nIn his foreword to the book Ron Siegel\, PhD wrote\, “In the pages that follow\, Lisa Dale Miller takes us on an integrative adventure\, exploring the intersection of ancient Buddhist teachings with modern neurobiology and clinical research and practice. While the work of many pioneers have facilitated the integration of mindfulness practices into health care and society by intentionally extracting them from their Buddhist roots\, this book offers a different service: it looks unflinchingly at Buddhist understandings of the origins of human suffering and how various meditative techniques were designed to alleviate this suffering by fostering a radical psychological liberation.” \nAnam Thubten Rinpoche wrote in his foreword\, “You will find that the scholarship and many years of meditation practice of the author are reflected on every page.  It is intellectually satisfying and also serves as a rich contemplative guide for mindfulness meditation and Buddhism in general. No matter what your background might be\, as scholar\, meditator or seeker\, you will find many valuable insights in this work. It is such a joy to see Lisa’s gift in presenting many essential Buddhist thoughts in contemporary language and making them come alive.” \nEffortless Mindfulness is available through Amazon\, B&N\, iTunes\, etc.\, in digital and paperback editions.\nPlease visit www.awakenedpresence.com for more information about the book.
URL:https://staging.imsb.org/event/weekly-sitting-and-dhamma-talk-2015-03-03/2023-10-09/
LOCATION:St. Timothy’s Episcopal Church\, Edwards Hall\, 2094 Grant Road \, Mountain View \, CA\, 94040\, United States
CATEGORIES:Featured Events,Guests and Series,Weekly Meditation
ORGANIZER;CN="IMSB contact":MAILTO:Click on link under Organizer.
GEO:37.3726296;-122.0783279
X-APPLE-STRUCTURED-LOCATION;VALUE=URI;X-ADDRESS=St. Timothy’s Episcopal Church Edwards Hall 2094 Grant Road  Mountain View  CA 94040 United States;X-APPLE-RADIUS=500;X-TITLE=2094 Grant Road:geo:-122.0783279,37.3726296
END:VEVENT
END:VCALENDAR