BEGIN:VCALENDAR
VERSION:2.0
PRODID:-//Insight Meditation South Bay - ECPv6.5.1//NONSGML v1.0//EN
CALSCALE:GREGORIAN
METHOD:PUBLISH
X-WR-CALNAME:Insight Meditation South Bay
X-ORIGINAL-URL:https://staging.imsb.org
X-WR-CALDESC:Events for Insight Meditation South Bay
REFRESH-INTERVAL;VALUE=DURATION:PT1H
X-Robots-Tag:noindex
X-PUBLISHED-TTL:PT1H
BEGIN:VTIMEZONE
TZID:America/Los_Angeles
BEGIN:DAYLIGHT
TZOFFSETFROM:-0800
TZOFFSETTO:-0700
TZNAME:PDT
DTSTART:20220313T100000
END:DAYLIGHT
BEGIN:STANDARD
TZOFFSETFROM:-0700
TZOFFSETTO:-0800
TZNAME:PST
DTSTART:20221106T090000
END:STANDARD
END:VTIMEZONE
BEGIN:VEVENT
DTSTART;TZID=America/Los_Angeles:20221212T190000
DTEND;TZID=America/Los_Angeles:20221212T203000
DTSTAMP:20260422T060342
CREATED:20220518T223218Z
LAST-MODIFIED:20221205T173631Z
UID:10008790-1670871600-1670877000@staging.imsb.org
SUMMARY:CANCELED—Monday In-Person—Shaila Catherine
DESCRIPTION:CANCELED — Monday In-Person—Shaila Catherine\nan evening of meditation and teaching \nwith Shaila Catherine \nThis event has been canceled. \nJoin us In-Person another day!\nIMSB is resuming public meetings in person. We will start slowly by offering a monthly meeting at St Timothy’s in Mountain View. Seating will be limited due to COVID-19 restrictions. Reservations are required. This event is open only to individuals who have been fully vaccinated. \nReserve your spot!\nChoose a ticket below to reserve your seat. The ticketing process will allow you to make a donation online to avoid cash handling at the event. You will be required to agree to follow COVID-19 precautions and to provide location information for contact tracing purposes.  \nIf attendees arrive without a reservation\, they may be admitted as space permits. We will gather contact information and COVID precaution agreement on site.  \nSchedule:\n\n6:45 pm — Doors Open — arrive early to check-in\n7:00 pm — Meditation\n7:40 pm — Teachings\n8:30 pm — Closing and Informal Connections\n8:45 pm — Prepare Room for Departure\n\nLocation:\nSt. Timothy’s Episcopal Church\nEdwards Hall\n2094 Grant Rd.\nMountain View\, CA 94040 \nExperience Level:\nThis event is appropriate for newcomers as well as experienced practitioners. The evening includes silent or guided meditation and teachings. \nCOVID-19 Precautions:\n\nAlways bring a face mask to our events. Assume that face masks are required when indoors\, but in certain conditions we may announce that masks are optional.\nWe will seat the speaker at least 12 feet from the attendees. To support hearing and understanding of the talk\, the speaker may not wear a mask while teaching.\n\nBy taking a ticket below you are stating that you are fully vaccinated and that you agree to: \n\n\n\nwear a face mask in all indoor spaces unless an announcement relaxes this requirement. We currently require masks whenever weather requires the closing of doors and windows or when we cannot maintain a 6 foot distance between seats. When ventilation is good and we have adequate distance between seats\, we may announce that masks are optional.\nonly attend if you feel healthy and have no symptoms of illness;\ntry to maintain a social distance between people whenever possible;\ncontact IMSB at sit if you become sick within a week of attending one of our in-person gatherings.\n\n\n\nPlease note: IMSB will maintain information for possible contact tracing. We will use the billing address entered during the ticketing process for that purpose. We will include this contact information on IMSB’s mailing list; you may unsubscribe from our list at any time. \n\n  \nTEACHERS: Please visit our Teachers Page for biographies and photos of our speakers. \nOUR SCHEDULE: IMSB is resuming in-person meetings. We will meet in person at St Tim’s in Mountain View on one Monday each month\, and online on one Tuesday each month. \nDANA/DONATIONS: IMSB relies upon the generosity of participants to support our teachers and to cover organizational expenses that continue whether we are meeting in-person or online. Dana is a word in the ancient Pali language that describes donations\, offerings\, and generosity. We encourage you to give joyfully and generously\, according to your resources and means. IMSB is a 501(c) (3) organization. Donations are tax-deductible as permitted by law.
URL:https://staging.imsb.org/event/monday-in-person-shaila-catherine-15/
LOCATION:St. Timothy’s Episcopal Church\, 2094 Grant Road \, Mountain View\, 94040\, United States
CATEGORIES:Featured Events,In-Person,Monthly Meditation
ORGANIZER;CN="IMSB contact":MAILTO:Click on link under Organizer.
GEO:37.3726296;-122.0783279
X-APPLE-STRUCTURED-LOCATION;VALUE=URI;X-ADDRESS=St. Timothy’s Episcopal Church 2094 Grant Road  Mountain View 94040 United States;X-APPLE-RADIUS=500;X-TITLE=2094 Grant Road:geo:-122.0783279,37.3726296
END:VEVENT
BEGIN:VEVENT
DTSTART;TZID=America/Los_Angeles:20221212T193000
DTEND;TZID=America/Los_Angeles:20221212T210000
DTSTAMP:20260422T060342
CREATED:20140819T013735Z
LAST-MODIFIED:20200727T203500Z
UID:10007850-1670873400-1670878800@staging.imsb.org
SUMMARY:Effortless Mindfulness – author Lisa Dale Miller
DESCRIPTION:Effortless Mindfulness: Genuine Mental Health Through Awakened Presence\nby Lisa Dale Miller\nPublished by Routledge April 2014 \nThe event will include meditation and the author’s talk. \n \n7:30-9:00 Evening Program includes meditation and a talk. \n9:00-9:30 Reception with tea and treats. \nEffortless Mindfulness promotes genuine mental health through the direct experience of awakened presence—an effortlessly embodied\, fearless understanding of and interaction with the way things truly are. The book offers a uniquely modern Buddhist psychological understanding of mental health disorders through a scholarly\, yet clinically useful presentation of Theravada\, Mahayana and Vajrayana Buddhist teachings and practices. Written specifically for Western psychotherapeutic professionals\, the book brings together traditional Buddhist theory and contemporary psycho-neuro-bio-social research to describe the conditioned and unconditioned mind. This in-depth exploration of Buddhist psychology includes complete instructions for psychotherapists in authentic yet clinically appropriate Buddhist mindfulness/heartfulness practices and Buddhist psychological inquiry skills. The book also features interviews with an esteemed collection of Buddhist teachers\, scholars\, meditation researchers and Buddhist-inspired clinicians. \nIn his foreword to the book Ron Siegel\, PhD wrote\, “In the pages that follow\, Lisa Dale Miller takes us on an integrative adventure\, exploring the intersection of ancient Buddhist teachings with modern neurobiology and clinical research and practice. While the work of many pioneers have facilitated the integration of mindfulness practices into health care and society by intentionally extracting them from their Buddhist roots\, this book offers a different service: it looks unflinchingly at Buddhist understandings of the origins of human suffering and how various meditative techniques were designed to alleviate this suffering by fostering a radical psychological liberation.” \nAnam Thubten Rinpoche wrote in his foreword\, “You will find that the scholarship and many years of meditation practice of the author are reflected on every page.  It is intellectually satisfying and also serves as a rich contemplative guide for mindfulness meditation and Buddhism in general. No matter what your background might be\, as scholar\, meditator or seeker\, you will find many valuable insights in this work. It is such a joy to see Lisa’s gift in presenting many essential Buddhist thoughts in contemporary language and making them come alive.” \nEffortless Mindfulness is available through Amazon\, B&N\, iTunes\, etc.\, in digital and paperback editions.\nPlease visit www.awakenedpresence.com for more information about the book.
URL:https://staging.imsb.org/event/weekly-sitting-and-dhamma-talk-2015-03-03/2022-12-12/
LOCATION:St. Timothy’s Episcopal Church\, Edwards Hall\, 2094 Grant Road \, Mountain View \, CA\, 94040\, United States
CATEGORIES:Featured Events,Guests and Series,Weekly Meditation
ORGANIZER;CN="IMSB contact":MAILTO:Click on link under Organizer.
GEO:37.3726296;-122.0783279
X-APPLE-STRUCTURED-LOCATION;VALUE=URI;X-ADDRESS=St. Timothy’s Episcopal Church Edwards Hall 2094 Grant Road  Mountain View  CA 94040 United States;X-APPLE-RADIUS=500;X-TITLE=2094 Grant Road:geo:-122.0783279,37.3726296
END:VEVENT
END:VCALENDAR