BEGIN:VCALENDAR
VERSION:2.0
PRODID:-//Insight Meditation South Bay - ECPv6.5.1//NONSGML v1.0//EN
CALSCALE:GREGORIAN
METHOD:PUBLISH
X-ORIGINAL-URL:https://staging.imsb.org
X-WR-CALDESC:Events for Insight Meditation South Bay
REFRESH-INTERVAL;VALUE=DURATION:PT1H
X-Robots-Tag:noindex
X-PUBLISHED-TTL:PT1H
BEGIN:VTIMEZONE
TZID:America/Los_Angeles
BEGIN:DAYLIGHT
TZOFFSETFROM:-0800
TZOFFSETTO:-0700
TZNAME:PDT
DTSTART:20220313T100000
END:DAYLIGHT
BEGIN:STANDARD
TZOFFSETFROM:-0700
TZOFFSETTO:-0800
TZNAME:PST
DTSTART:20221106T090000
END:STANDARD
END:VTIMEZONE
BEGIN:VEVENT
DTSTART;TZID=America/Los_Angeles:20221101T183000
DTEND;TZID=America/Los_Angeles:20221101T200000
DTSTAMP:20260422T044053
CREATED:20220521T161006Z
LAST-MODIFIED:20220603T192906Z
UID:10008796-1667327400-1667332800@staging.imsb.org
SUMMARY:Tuesday Online—Shaila Catherine
DESCRIPTION:Tuesday Online—Shaila Catherine\nan evening of meditation and teaching \nwith Shaila Catherine \nPlease join us on Zoom. This event is appropriate for newcomers as well as experienced practitioners. The evening includes silent or guided meditation and teachings. \nTakes place on Zoom! \nJoin the Zoom Meeting\nWe now require you enter the Zoom passcode to join the meeting. \nhttps://us02web.zoom.us/j/88266320362 \nMeeting ID: 882 6632 0362\nPasscode: metta4all \nOne tap mobile\n+16699006833\,\,88266320362# US (San Jose)\n+12532158782\,\,88266320362# US (Tacoma) \nDial by your location\n+1 669 900 6833 US (San Jose)\n+1 253 215 8782 US (Tacoma)\n+1 346 248 7799 US (Houston)\n+1 929 205 6099 US (New York)\n+1 301 715 8592 US (Germantown)\n+1 312 626 6799 US (Chicago)\nMeeting ID: 882 6632 0362\nFind your local number: https://us02web.zoom.us/u/kcSiCSJ1bl \n\n  \nTEACHERS: Please visit our Teachers Page for biographies and photos of our speakers. \nTUESDAYS ONLINE: Due to coronavirus concerns\, we have converted our Tuesday evening meeting to an online format with teachings offered by Shaila Catherine and an array of guest teachers. This online group meets 6:30 – 8:00 PM Pacific Time\, which makes it possible for local members to join us after their workday\, and for East Coast friends to sit with us before bed. \nEveryone is welcome. Please share this event with your friends. \nDANA/DONATIONS: IMSB relies upon the generosity of participants to support our teachers and cover organizational expenses that continue whether we are meeting in-person or online. Dana is a word in the ancient Pali language that describes donations\, offerings and generosity. We encourage you to give joyfully and generously\, according to your resources and means. IMSB is a 501(c) (3) organization. All donations are tax deductible as permitted by law. \nPlease support our programs and teachers with your donations. We especially encourage recurring monthly donations. Donations can be made through our Donation Page. Recurring donations can be made through Network for Good or PayPal.
URL:https://staging.imsb.org/event/tuesday-online-shaila-catherine-13/
LOCATION:Online
CATEGORIES:Featured Events,Monthly Meditation,Online Programs
ORGANIZER;CN="IMSB contact":MAILTO:Click on link under Organizer.
END:VEVENT
BEGIN:VEVENT
DTSTART;TZID=America/Los_Angeles:20221101T193000
DTEND;TZID=America/Los_Angeles:20221101T210000
DTSTAMP:20260422T044053
CREATED:20140819T013735Z
LAST-MODIFIED:20200727T203500Z
UID:10007809-1667331000-1667336400@staging.imsb.org
SUMMARY:Effortless Mindfulness – author Lisa Dale Miller
DESCRIPTION:Effortless Mindfulness: Genuine Mental Health Through Awakened Presence\nby Lisa Dale Miller\nPublished by Routledge April 2014 \nThe event will include meditation and the author’s talk. \n \n7:30-9:00 Evening Program includes meditation and a talk. \n9:00-9:30 Reception with tea and treats. \nEffortless Mindfulness promotes genuine mental health through the direct experience of awakened presence—an effortlessly embodied\, fearless understanding of and interaction with the way things truly are. The book offers a uniquely modern Buddhist psychological understanding of mental health disorders through a scholarly\, yet clinically useful presentation of Theravada\, Mahayana and Vajrayana Buddhist teachings and practices. Written specifically for Western psychotherapeutic professionals\, the book brings together traditional Buddhist theory and contemporary psycho-neuro-bio-social research to describe the conditioned and unconditioned mind. This in-depth exploration of Buddhist psychology includes complete instructions for psychotherapists in authentic yet clinically appropriate Buddhist mindfulness/heartfulness practices and Buddhist psychological inquiry skills. The book also features interviews with an esteemed collection of Buddhist teachers\, scholars\, meditation researchers and Buddhist-inspired clinicians. \nIn his foreword to the book Ron Siegel\, PhD wrote\, “In the pages that follow\, Lisa Dale Miller takes us on an integrative adventure\, exploring the intersection of ancient Buddhist teachings with modern neurobiology and clinical research and practice. While the work of many pioneers have facilitated the integration of mindfulness practices into health care and society by intentionally extracting them from their Buddhist roots\, this book offers a different service: it looks unflinchingly at Buddhist understandings of the origins of human suffering and how various meditative techniques were designed to alleviate this suffering by fostering a radical psychological liberation.” \nAnam Thubten Rinpoche wrote in his foreword\, “You will find that the scholarship and many years of meditation practice of the author are reflected on every page.  It is intellectually satisfying and also serves as a rich contemplative guide for mindfulness meditation and Buddhism in general. No matter what your background might be\, as scholar\, meditator or seeker\, you will find many valuable insights in this work. It is such a joy to see Lisa’s gift in presenting many essential Buddhist thoughts in contemporary language and making them come alive.” \nEffortless Mindfulness is available through Amazon\, B&N\, iTunes\, etc.\, in digital and paperback editions.\nPlease visit www.awakenedpresence.com for more information about the book.
URL:https://staging.imsb.org/event/weekly-sitting-and-dhamma-talk-2015-03-03/2022-11-01/
LOCATION:St. Timothy’s Episcopal Church\, Edwards Hall\, 2094 Grant Road \, Mountain View \, CA\, 94040\, United States
CATEGORIES:Featured Events,Guests and Series,Weekly Meditation
ORGANIZER;CN="IMSB contact":MAILTO:Click on link under Organizer.
GEO:37.3726296;-122.0783279
X-APPLE-STRUCTURED-LOCATION;VALUE=URI;X-ADDRESS=St. Timothy’s Episcopal Church Edwards Hall 2094 Grant Road  Mountain View  CA 94040 United States;X-APPLE-RADIUS=500;X-TITLE=2094 Grant Road:geo:-122.0783279,37.3726296
END:VEVENT
END:VCALENDAR